BEGIN:VCALENDAR
VERSION:2.0
PRODID:-//Blackburn Bowls Club - ECPv4.9.10//NONSGML v1.0//EN
CALSCALE:GREGORIAN
METHOD:PUBLISH
X-WR-CALNAME:Blackburn Bowls Club
X-ORIGINAL-URL:https://blackburnbowlsclub.com.au
X-WR-CALDESC:Events for Blackburn Bowls Club
BEGIN:VTIMEZONE
TZID:Australia/Melbourne
BEGIN:STANDARD
TZOFFSETFROM:+1100
TZOFFSETTO:+1000
TZNAME:AEST
DTSTART:20190406T160000
END:STANDARD
BEGIN:DAYLIGHT
TZOFFSETFROM:+1000
TZOFFSETTO:+1100
TZNAME:AEDT
DTSTART:20191005T160000
END:DAYLIGHT
TZID:UTC
BEGIN:STANDARD
TZOFFSETFROM:+0000
TZOFFSETTO:+0000
TZNAME:UTC
DTSTART:20190101T000000
END:STANDARD
END:VTIMEZONE
BEGIN:VEVENT
DTSTART;VALUE=DATE:20191106
DTEND;VALUE=DATE:20191107
DTSTAMP:20200229T103342
CREATED:20191025T055037Z
LAST-MODIFIED:20191025T055037Z
UID:2628-1572998400-1573084799@blackburnbowlsclub.com.au
SUMMARY:Social Bowls
DESCRIPTION:Wednesday 6th November \n
URL:https://blackburnbowlsclub.com.au/event/social-bowls/
LOCATION:Blackburn Bowls Club\, 65 Pakenham Street\, BLACKBURN\, VIC\, 3130\, Australia
ATTACH;FMTTYPE=image/jpeg:https://blackburnbowlsclub.com.au/wp-content/uploads/2019/07/bbc-bowling-grounds-7.jpg
END:VEVENT
BEGIN:VEVENT
DTSTART;VALUE=DATE:20191113
DTEND;VALUE=DATE:20191114
DTSTAMP:20200229T103342
CREATED:20191025T054631Z
LAST-MODIFIED:20191025T054631Z
UID:2626-1573603200-1573689599@blackburnbowlsclub.com.au
SUMMARY:Open 2 Bowl Triples
DESCRIPTION:•  Single entries\n•  START- 1.00 pm \n
URL:https://blackburnbowlsclub.com.au/event/open-2-bowl-triples/
LOCATION:Blackburn Bowls Club\, 65 Pakenham Street\, BLACKBURN\, VIC\, 3130\, Australia
ATTACH;FMTTYPE=image/jpeg:https://blackburnbowlsclub.com.au/wp-content/uploads/2019/10/bbcrwt33.jpg
END:VEVENT
BEGIN:VEVENT
DTSTART;VALUE=DATE:20191118
DTEND;VALUE=DATE:20191119
DTSTAMP:20200229T103342
CREATED:20191025T054047Z
LAST-MODIFIED:20191025T054121Z
UID:2621-1574035200-1574121599@blackburnbowlsclub.com.au
SUMMARY:Ray White 2 bowl triples
DESCRIPTION:• 3rd Monday each month\n• B.Y.O lunch\n• Start 10.30am.\n• Good Prizes. \n
URL:https://blackburnbowlsclub.com.au/event/ray-white-2-bowl-triples/
LOCATION:Blackburn Bowls Club\, 65 Pakenham Street\, BLACKBURN\, VIC\, 3130\, Australia
ATTACH;FMTTYPE=image/jpeg:https://blackburnbowlsclub.com.au/wp-content/uploads/2019/10/bbcrwt1.jpg
END:VEVENT
BEGIN:VEVENT
DTSTART;VALUE=DATE:20191120
DTEND;VALUE=DATE:20191121
DTSTAMP:20200229T103342
CREATED:20191025T054331Z
LAST-MODIFIED:20191025T060559Z
UID:2624-1574208000-1574294399@blackburnbowlsclub.com.au
SUMMARY:Fred Dodd Shootout Pairs
DESCRIPTION:• 3rd Wednesday each month\n• START 9.30 am.\n• Contact- Alan 0400 512 432 \n
URL:https://blackburnbowlsclub.com.au/event/fred-dodd-shootout-pairs/
LOCATION:Blackburn Bowls Club\, 65 Pakenham Street\, BLACKBURN\, VIC\, 3130\, Australia
ATTACH;FMTTYPE=image/jpeg:https://blackburnbowlsclub.com.au/wp-content/uploads/2019/10/fdsbbc.jpg
END:VEVENT
BEGIN:VEVENT
DTSTART;VALUE=DATE:20191127
DTEND;VALUE=DATE:20191128
DTSTAMP:20200229T103342
CREATED:20160323T000058Z
LAST-MODIFIED:20191025T054220Z
UID:443-1574812800-1574899199@blackburnbowlsclub.com.au
SUMMARY:Wednesday 2 Bowl Triples (team & single entries)
DESCRIPTION:RYMAN HEALTHCARE OPEN 2 BOWL TRIPLES\n•  4th Wednesday of each month.\n•  Entry fee is $30- per team per game.\n•  Single entries $10- all entries guaranteed a game.\n•  STARTING – 1.00 pm\n•  Contact Henry 0416 212 365 \n
URL:https://blackburnbowlsclub.com.au/event/wednesday-2-bowl-triples/
LOCATION:Blackburn Bowls Club\, 65 Pakenham Street\, BLACKBURN\, VIC\, 3130\, Australia
CATEGORIES:Tournament
ATTACH;FMTTYPE=image/jpeg:https://blackburnbowlsclub.com.au/wp-content/uploads/2019/10/bbcrwt33.jpg
END:VEVENT
BEGIN:VEVENT
DTSTART;VALUE=DATE:20191218
DTEND;VALUE=DATE:20191219
DTSTAMP:20200229T103342
CREATED:20191025T060733Z
LAST-MODIFIED:20191025T060733Z
UID:2639-1576627200-1576713599@blackburnbowlsclub.com.au
SUMMARY:Fred Dodd Shootout Pairs
DESCRIPTION:• 3rd Wednesday each month\n• START 9.30 am.\n• Contact- Alan 0400 512 432 \n
URL:https://blackburnbowlsclub.com.au/event/fred-dodd-shootout-pairs-2/
LOCATION:VIC
CATEGORIES:Tournament
ATTACH;FMTTYPE=image/jpeg:https://blackburnbowlsclub.com.au/wp-content/uploads/2019/10/fdsbbc.jpg
END:VEVENT
END:VCALENDAR